BEGIN:VCALENDAR
PRODID:-//eluceo/ical//2.0/EN
VERSION:2.0
CALSCALE:GREGORIAN
BEGIN:VEVENT
UID:4691cab3df2b084dc387aaab466df40d
DTSTAMP:20260422T160144Z
SUMMARY:Wunderkammer
DESCRIPTION:Marcos Morau\, preisgekrönter Choreograph und Artist in Reside
 nce beim Staatsballett Berlin\, ruft mit...
DTSTART:20261025T150000
DTEND:20261025T161000
BEGIN:VALARM
ACTION:DISPLAY
DESCRIPTION:Wunderkammer
TRIGGER;VALUE=DATE-TIME:20261025T150000Z
END:VALARM
END:VEVENT
END:VCALENDAR