BEGIN:VCALENDAR
PRODID:-//eluceo/ical//2.0/EN
VERSION:2.0
CALSCALE:GREGORIAN
BEGIN:VEVENT
UID:612a5beb164d23001823ea58e37339fa
DTSTAMP:20260422T155416Z
SUMMARY:Wunderkammer
DESCRIPTION:Marcos Morau\, preisgekrönter Choreograph und Artist in Reside
 nce beim Staatsballett Berlin\, ruft mit...
DTSTART:20261016T193000
DTEND:20261016T204000
BEGIN:VALARM
ACTION:DISPLAY
DESCRIPTION:Wunderkammer
TRIGGER;VALUE=DATE-TIME:20261016T193000Z
END:VALARM
END:VEVENT
END:VCALENDAR