BEGIN:VCALENDAR
PRODID:-//eluceo/ical//2.0/EN
VERSION:2.0
CALSCALE:GREGORIAN
BEGIN:VEVENT
UID:ca83c8b735e642194013de2148109e31
DTSTAMP:20260425T182619Z
SUMMARY:Ballettgespräch
DESCRIPTION:Im stimmungsvollen Ambiente des Apollosaals der Staatsoper Unte
 r den Linden lädt das Staatsballett...
DTSTART:20261101T110000
DTEND:20261101T110000
LOCATION:Unter den Linden 7\, 10117 Berlin
BEGIN:VALARM
ACTION:DISPLAY
DESCRIPTION:Ballettgespräch
TRIGGER;VALUE=DATE-TIME:20261101T110000Z
END:VALARM
END:VEVENT
END:VCALENDAR