BEGIN:VCALENDAR
PRODID:-//eluceo/ical//2.0/EN
VERSION:2.0
CALSCALE:GREGORIAN
BEGIN:VEVENT
UID:f6cf806648c87635a238dd0471ae0b2f
DTSTAMP:20260425T183115Z
SUMMARY:Ballettgespräch
DESCRIPTION:Im stimmungsvollen Ambiente des Apollosaals der Staatsoper Unte
 r den Linden lädt das Staatsballett...
DTSTART:20270221T110000
DTEND:20270221T110000
LOCATION:Unter den Linden 7\, 10117 Berlin
BEGIN:VALARM
ACTION:DISPLAY
DESCRIPTION:Ballettgespräch
TRIGGER;VALUE=DATE-TIME:20270221T110000Z
END:VALARM
END:VEVENT
END:VCALENDAR