BEGIN:VCALENDAR
PRODID:-//eluceo/ical//2.0/EN
VERSION:2.0
CALSCALE:GREGORIAN
BEGIN:VEVENT
UID:4564259eca10cd68de85c4905ef2f949
DTSTAMP:20260425T182425Z
SUMMARY:Ballettgespräch
DESCRIPTION:Im stimmungsvollen Ambiente des Apollosaals der Staatsoper Unte
 r den Linden lädt das Staatsballett...
DTSTART:20261004T110000
DTEND:20261004T110000
LOCATION:Unter den Linden 7\, 10117 Berlin
BEGIN:VALARM
ACTION:DISPLAY
DESCRIPTION:Ballettgespräch
TRIGGER;VALUE=DATE-TIME:20261004T110000Z
END:VALARM
END:VEVENT
END:VCALENDAR