BEGIN:VCALENDAR
PRODID:-//eluceo/ical//2.0/EN
VERSION:2.0
CALSCALE:GREGORIAN
BEGIN:VEVENT
UID:39cb33628c68281c2eb0cfc77f9b2b35
DTSTAMP:20260425T200210Z
SUMMARY:Forum
DESCRIPTION:Entdecken Sie die Welt des Tanzes aus einer neuen Perspektive! 
 In der Gesprächsreihe Forum geht...
DTSTART:20270623T190000
DTEND:20270623T190000
BEGIN:VALARM
ACTION:DISPLAY
DESCRIPTION:Forum
TRIGGER;VALUE=DATE-TIME:20270623T190000Z
END:VALARM
END:VEVENT
END:VCALENDAR