BEGIN:VCALENDAR
PRODID:-//eluceo/ical//2.0/EN
VERSION:2.0
CALSCALE:GREGORIAN
BEGIN:VEVENT
UID:9d189bdd58dc27b459a96a95d3807aad
DTSTAMP:20260425T183355Z
SUMMARY:Forum
DESCRIPTION:In der Spielzeit 2025/26 widmet sich das Forum des Staatsballet
 ts Berlin dem Thema Sammlungen...
DTSTART:20270111T190000
DTEND:20270111T190000
LOCATION:Bismarckstraße 35\, 10627 Berlin
BEGIN:VALARM
ACTION:DISPLAY
DESCRIPTION:Forum
TRIGGER;VALUE=DATE-TIME:20270111T190000Z
END:VALARM
END:VEVENT
END:VCALENDAR