BEGIN:VCALENDAR
PRODID:-//eluceo/ical//2.0/EN
VERSION:2.0
CALSCALE:GREGORIAN
BEGIN:VEVENT
UID:655d97d1480ea6fda8decbe4739b74dd
DTSTAMP:20260425T200635Z
SUMMARY:Forum
DESCRIPTION:In der Spielzeit 2025/26 widmet sich das Forum des Staatsballet
 ts Berlin dem Thema Sammlungen...
DTSTART:20261027T190000
DTEND:20261027T190000
LOCATION:Bismarckstraße 35\, 10627 Berlin
BEGIN:VALARM
ACTION:DISPLAY
DESCRIPTION:Forum
TRIGGER;VALUE=DATE-TIME:20261027T190000Z
END:VALARM
END:VEVENT
END:VCALENDAR