BEGIN:VCALENDAR
PRODID:-//eluceo/ical//2.0/EN
VERSION:2.0
CALSCALE:GREGORIAN
BEGIN:VEVENT
UID:a6f0a098f82f2435434589878dfcfea2
DTSTAMP:20260425T200052Z
SUMMARY:Bovary
DESCRIPTION:Gustave Flaubert’s Roman Madame Bovary gilt als Meisterwerk d
 es französischen Realismus und...
DTSTART:20261006T193000
DTEND:20261006T215000
LOCATION:Bismarckstraße 35\, 10627 Berlin
BEGIN:VALARM
ACTION:DISPLAY
DESCRIPTION:Bovary
TRIGGER;VALUE=DATE-TIME:20261006T193000Z
END:VALARM
END:VEVENT
END:VCALENDAR