BEGIN:VCALENDAR
PRODID:-//eluceo/ical//2.0/EN
VERSION:2.0
CALSCALE:GREGORIAN
BEGIN:VEVENT
UID:8ed06791fb0399c80a9ce06703944016
DTSTAMP:20260425T195724Z
SUMMARY:Bovary
DESCRIPTION:Gustave Flaubert’s Roman Madame Bovary gilt als Meisterwerk d
 es französischen Realismus und...
DTSTART:20261002T193000
DTEND:20261002T215000
LOCATION:Bismarckstraße 35\, 10627 Berlin
BEGIN:VALARM
ACTION:DISPLAY
DESCRIPTION:Bovary
TRIGGER;VALUE=DATE-TIME:20261002T193000Z
END:VALARM
END:VEVENT
END:VCALENDAR