BEGIN:VCALENDAR
PRODID:-//eluceo/ical//2.0/EN
VERSION:2.0
CALSCALE:GREGORIAN
BEGIN:VEVENT
UID:a82f6d1f95f30a25c77633991db0cdc7
DTSTAMP:20260425T195954Z
SUMMARY:Bovary
DESCRIPTION:Gustave Flaubert’s Roman Madame Bovary gilt als Meisterwerk d
 es französischen Realismus und...
DTSTART:20261001T193000
DTEND:20261001T215000
LOCATION:Bismarckstraße 35\, 10627 Berlin
BEGIN:VALARM
ACTION:DISPLAY
DESCRIPTION:Bovary
TRIGGER;VALUE=DATE-TIME:20261001T193000Z
END:VALARM
END:VEVENT
END:VCALENDAR