BEGIN:VCALENDAR
PRODID:-//eluceo/ical//2.0/EN
VERSION:2.0
CALSCALE:GREGORIAN
BEGIN:VEVENT
UID:93d73b7407b593b5c91a820e64af6ffe
DTSTAMP:20260425T182229Z
SUMMARY:Giselle
DESCRIPTION:Liebe\, Verrat und die Sehnsucht nach Vergebung prägen eines d
 er bewegendsten Werke des Romantischen...
DTSTART:20261030T193000
DTEND:20261030T215000
LOCATION:Unter den Linden 7\, 10117 Berlin
BEGIN:VALARM
ACTION:DISPLAY
DESCRIPTION:Giselle
TRIGGER;VALUE=DATE-TIME:20261030T193000Z
END:VALARM
END:VEVENT
END:VCALENDAR