BEGIN:VCALENDAR
PRODID:-//eluceo/ical//2.0/EN
VERSION:2.0
CALSCALE:GREGORIAN
BEGIN:VEVENT
UID:5d90fc8ce53d6662a9655b15fb96134e
DTSTAMP:20260425T182450Z
SUMMARY:Giselle
DESCRIPTION:Liebe\, Verrat und die Sehnsucht nach Vergebung prägen eines d
 er bewegendsten Werke des Romantischen...
DTSTART:20261029T193000
DTEND:20261029T215000
LOCATION:Unter den Linden 7\, 10117 Berlin
BEGIN:VALARM
ACTION:DISPLAY
DESCRIPTION:Giselle
TRIGGER;VALUE=DATE-TIME:20261029T193000Z
END:VALARM
END:VEVENT
END:VCALENDAR