BEGIN:VCALENDAR
PRODID:-//eluceo/ical//2.0/EN
VERSION:2.0
CALSCALE:GREGORIAN
BEGIN:VEVENT
UID:0d5557fe398d7410e8d485618abd993a
DTSTAMP:20260425T182735Z
SUMMARY:Giselle
DESCRIPTION:Liebe\, Verrat und die Sehnsucht nach Vergebung prägen eines d
 er bewegendsten Werke des Romantischen...
DTSTART:20261011T180000
DTEND:20261011T202000
LOCATION:Unter den Linden 7\, 10117 Berlin
BEGIN:VALARM
ACTION:DISPLAY
DESCRIPTION:Giselle
TRIGGER;VALUE=DATE-TIME:20261011T180000Z
END:VALARM
END:VEVENT
END:VCALENDAR