BEGIN:VCALENDAR
PRODID:-//eluceo/ical//2.0/EN
VERSION:2.0
CALSCALE:GREGORIAN
BEGIN:VEVENT
UID:e7900835e9e9aa360236482d7a92c6c2
DTSTAMP:20260425T182735Z
SUMMARY:Giselle
DESCRIPTION:Liebe\, Verrat und die Sehnsucht nach Vergebung prägen eines d
 er bewegendsten Werke des Romantischen...
DTSTART:20261008T193000
DTEND:20261008T215000
LOCATION:Unter den Linden 7\, 10117 Berlin
BEGIN:VALARM
ACTION:DISPLAY
DESCRIPTION:Giselle
TRIGGER;VALUE=DATE-TIME:20261008T193000Z
END:VALARM
END:VEVENT
END:VCALENDAR