BEGIN:VCALENDAR
PRODID:-//eluceo/ical//2.0/EN
VERSION:2.0
CALSCALE:GREGORIAN
BEGIN:VEVENT
UID:549a1db80900e39803a53ade1c7cb3b0
DTSTAMP:20260425T182736Z
SUMMARY:Giselle
DESCRIPTION:Liebe\, Verrat und die Sehnsucht nach Vergebung prägen eines d
 er bewegendsten Werke des Romantischen...
DTSTART:20260920T193000
DTEND:20260920T215000
LOCATION:Unter den Linden 7\, 10117 Berlin
BEGIN:VALARM
ACTION:DISPLAY
DESCRIPTION:Giselle
TRIGGER;VALUE=DATE-TIME:20260920T193000Z
END:VALARM
END:VEVENT
END:VCALENDAR