BEGIN:VCALENDAR
PRODID:-//eluceo/ical//2.0/EN
VERSION:2.0
CALSCALE:GREGORIAN
BEGIN:VEVENT
UID:2ab36ea85b7fc5d3bf4cd1753dc9fa17
DTSTAMP:20260425T183139Z
SUMMARY:Staatliche Ballett- und Artistikschule
DESCRIPTION:Es ist seit Jahrzehnten Tradition\, dass die Schüler*innen der
  Staatlichen Ballett- und Artistikschule...
DTSTART:20260630T193000
DTEND:20260630T193000
BEGIN:VALARM
ACTION:DISPLAY
DESCRIPTION:Staatliche Ballett- und Artistikschule
TRIGGER;VALUE=DATE-TIME:20260630T193000Z
END:VALARM
END:VEVENT
END:VCALENDAR