BEGIN:VCALENDAR
PRODID:-//eluceo/ical//2.0/EN
VERSION:2.0
CALSCALE:GREGORIAN
BEGIN:VEVENT
UID:e20522b16eefa3e80de2640ca53444b6
DTSTAMP:20260425T183140Z
SUMMARY:Eröffnungsfest
DESCRIPTION:An einem spätsommerlichen Wochenende öffnet die Staatsoper Un
 ter den Linden ihre Pforten\, um die neue...
DTSTART:20260912T120000
DTEND:20260912T120000
LOCATION:Unter den Linden 7\, 10117 Berlin
BEGIN:VALARM
ACTION:DISPLAY
DESCRIPTION:Eröffnungsfest
TRIGGER;VALUE=DATE-TIME:20260912T120000Z
END:VALARM
END:VEVENT
END:VCALENDAR