BEGIN:VCALENDAR
PRODID:-//eluceo/ical//2.0/EN
VERSION:2.0
CALSCALE:GREGORIAN
BEGIN:VEVENT
UID:0ea60995c6d91b62799289632511f64c
DTSTAMP:20260425T200554Z
SUMMARY:DiY - Dance it yourself
DESCRIPTION:Als Vorbereitung auf William Forsythe II
DTSTART:20270402T173000
DTEND:20270402T183000
LOCATION:Bismarckstraße 35\, 10627 Berlin
BEGIN:VALARM
ACTION:DISPLAY
DESCRIPTION:DiY - Dance it yourself
TRIGGER;VALUE=DATE-TIME:20270402T173000Z
END:VALARM
END:VEVENT
END:VCALENDAR