BEGIN:VCALENDAR
PRODID:-//eluceo/ical//2.0/EN
VERSION:2.0
CALSCALE:GREGORIAN
BEGIN:VEVENT
UID:0fe3b0b6c22f04d50336e49220294cb8
DTSTAMP:20260425T182229Z
SUMMARY:DIY - Dance it yourself
DESCRIPTION:Als Vorbereitung auf 2 Chapters Love
DTSTART:20270523T130000
DTEND:20270523T140000
LOCATION:Unter den Linden 7\, 10117 Berlin
BEGIN:VALARM
ACTION:DISPLAY
DESCRIPTION:DIY - Dance it yourself
TRIGGER;VALUE=DATE-TIME:20270523T130000Z
END:VALARM
END:VEVENT
END:VCALENDAR