BEGIN:VCALENDAR
PRODID:-//eluceo/ical//2.0/EN
VERSION:2.0
CALSCALE:GREGORIAN
BEGIN:VEVENT
UID:e7f2d2402da552b4178230816e14d3ac
DTSTAMP:20260425T200445Z
SUMMARY:DIY - Dance it yourself
DESCRIPTION:Als Vorbereitung auf Wunderkammer
DTSTART:20261025T130000
DTEND:20261025T140000
BEGIN:VALARM
ACTION:DISPLAY
DESCRIPTION:DIY - Dance it yourself
TRIGGER;VALUE=DATE-TIME:20261025T130000Z
END:VALARM
END:VEVENT
END:VCALENDAR