BEGIN:VCALENDAR
PRODID:-//eluceo/ical//2.0/EN
VERSION:2.0
CALSCALE:GREGORIAN
BEGIN:VEVENT
UID:830366a7ea75255528176418fbf5d34d
DTSTAMP:20260425T182926Z
SUMMARY:Familienworkshop
DESCRIPTION:Als Vorbereitung auf Nurejew
DTSTART:20270507T173000
DTEND:20270507T183000
LOCATION:Bismarckstraße 35\, 10627 Berlin
BEGIN:VALARM
ACTION:DISPLAY
DESCRIPTION:Familienworkshop
TRIGGER;VALUE=DATE-TIME:20270507T173000Z
END:VALARM
END:VEVENT
END:VCALENDAR