BEGIN:VCALENDAR
PRODID:-//eluceo/ical//2.0/EN
VERSION:2.0
CALSCALE:GREGORIAN
BEGIN:VEVENT
UID:99292c3f4c546a7c04965cb907f1daa8
DTSTAMP:20260425T183356Z
SUMMARY:Familienworkshop
DESCRIPTION:Als Vorbereitung auf Der Nussknacker
DTSTART:20270124T130000
DTEND:20270124T140000
LOCATION:Bismarckstraße 35\, 10627 Berlin
BEGIN:VALARM
ACTION:DISPLAY
DESCRIPTION:Familienworkshop
TRIGGER;VALUE=DATE-TIME:20270124T130000Z
END:VALARM
END:VEVENT
END:VCALENDAR