BEGIN:VCALENDAR
PRODID:-//eluceo/ical//2.0/EN
VERSION:2.0
CALSCALE:GREGORIAN
BEGIN:VEVENT
UID:831cafe63e0ad03ee115d272177b8976
DTSTAMP:20260425T183201Z
SUMMARY:Familienworkshop
DESCRIPTION:Als Vorbereitung auf Der Nussknacker
DTSTART:20261206T130000
DTEND:20261206T140000
LOCATION:Bismarckstraße 35\, 10627 Berlin
BEGIN:VALARM
ACTION:DISPLAY
DESCRIPTION:Familienworkshop
TRIGGER;VALUE=DATE-TIME:20261206T130000Z
END:VALARM
END:VEVENT
END:VCALENDAR