BEGIN:VCALENDAR
PRODID:-//eluceo/ical//2.0/EN
VERSION:2.0
CALSCALE:GREGORIAN
BEGIN:VEVENT
UID:0bd66eccae009ca17317ba955f542592
DTSTAMP:20260425T200409Z
SUMMARY:Familienworkshop
DESCRIPTION:Als Vorbereitung auf Bovary
DTSTART:20261010T173000
DTEND:20261010T183000
LOCATION:Bismarckstraße 35\, 10627 Berlin
BEGIN:VALARM
ACTION:DISPLAY
DESCRIPTION:Familienworkshop
TRIGGER;VALUE=DATE-TIME:20261010T173000Z
END:VALARM
END:VEVENT
END:VCALENDAR