BEGIN:VCALENDAR
PRODID:-//eluceo/ical//2.0/EN
VERSION:2.0
CALSCALE:GREGORIAN
BEGIN:VEVENT
UID:7fa9503a35f2be09f94c049a10217b14
DTSTAMP:20260425T183140Z
SUMMARY:Familienworkshop
DESCRIPTION:Als Vorbereitung auf Der Liebhaber
DTSTART:20270613T120000
DTEND:20270613T130000
LOCATION:Unter den Linden 7\, 10117 Berlin
BEGIN:VALARM
ACTION:DISPLAY
DESCRIPTION:Familienworkshop
TRIGGER;VALUE=DATE-TIME:20270613T120000Z
END:VALARM
END:VEVENT
END:VCALENDAR