BEGIN:VCALENDAR
PRODID:-//eluceo/ical//2.0/EN
VERSION:2.0
CALSCALE:GREGORIAN
BEGIN:VEVENT
UID:db410cc99acafff95103937e5a893b8f
DTSTAMP:20260425T182736Z
SUMMARY:Familienworkshop
DESCRIPTION:Als Vorbereitung auf Fearful Symmetries
DTSTART:20270214T130000
DTEND:20270214T140000
LOCATION:Unter den Linden 7\, 10117 Berlin
BEGIN:VALARM
ACTION:DISPLAY
DESCRIPTION:Familienworkshop
TRIGGER;VALUE=DATE-TIME:20270214T130000Z
END:VALARM
END:VEVENT
END:VCALENDAR