BEGIN:VCALENDAR
PRODID:-//eluceo/ical//2.0/EN
VERSION:2.0
CALSCALE:GREGORIAN
BEGIN:VEVENT
UID:9f8c11ee2cb3065a0d41ff0822c38e48
DTSTAMP:20260425T200338Z
SUMMARY:Familienworkshop
DESCRIPTION:Als Vorbereitung auf Giselle
DTSTART:20260920T130000
DTEND:20260920T140000
LOCATION:Unter den Linden 7\, 10117 Berlin
BEGIN:VALARM
ACTION:DISPLAY
DESCRIPTION:Familienworkshop
TRIGGER;VALUE=DATE-TIME:20260920T130000Z
END:VALARM
END:VEVENT
END:VCALENDAR