BEGIN:VCALENDAR
PRODID:-//eluceo/ical//2.0/EN
VERSION:2.0
CALSCALE:GREGORIAN
BEGIN:VEVENT
UID:4c65e1d8e072520f104b2a912db4a6f5
DTSTAMP:20260425T182758Z
SUMMARY:(K)nie zu spät
DESCRIPTION:Tanzkurs für alle über 60&nbsp\;&ndash\;&nbsp\;Kurs 8 mit dem
  Thema Der Liebhaber
DTSTART:20270428T140000
DTEND:20270428T140000
LOCATION:Bismarckstraße 35\, 10627 Berlin
BEGIN:VALARM
ACTION:DISPLAY
DESCRIPTION:(K)nie zu spät
TRIGGER;VALUE=DATE-TIME:20270428T140000Z
END:VALARM
END:VEVENT
END:VCALENDAR