BEGIN:VCALENDAR
PRODID:-//eluceo/ical//2.0/EN
VERSION:2.0
CALSCALE:GREGORIAN
BEGIN:VEVENT
UID:df8c698181e3d12c66219663109c100b
DTSTAMP:20260425T182625Z
SUMMARY:(K)nie zu spät
DESCRIPTION:Tanzkurs für alle über 60&nbsp\;&ndash\;&nbsp\;Kurs 7 mit dem
  Thema Der Liebhaber
DTSTART:20270426T140000
DTEND:20270426T140000
LOCATION:Bismarckstraße 35\, 10627 Berlin
BEGIN:VALARM
ACTION:DISPLAY
DESCRIPTION:(K)nie zu spät
TRIGGER;VALUE=DATE-TIME:20270426T140000Z
END:VALARM
END:VEVENT
END:VCALENDAR