BEGIN:VCALENDAR
PRODID:-//eluceo/ical//2.0/EN
VERSION:2.0
CALSCALE:GREGORIAN
BEGIN:VEVENT
UID:130285cad07a6a5cdd431d136c469e6c
DTSTAMP:20260425T182612Z
SUMMARY:(K)nie zu spät
DESCRIPTION:Tanzkurs für alle über 60&nbsp\;&ndash\;&nbsp\;Kurs 6 mit dem
  Thema William Forsythe II
DTSTART:20270210T140000
DTEND:20270210T140000
LOCATION:Bismarckstraße 35\, 10627 Berlin
BEGIN:VALARM
ACTION:DISPLAY
DESCRIPTION:(K)nie zu spät
TRIGGER;VALUE=DATE-TIME:20270210T140000Z
END:VALARM
END:VEVENT
END:VCALENDAR