BEGIN:VCALENDAR
PRODID:-//eluceo/ical//2.0/EN
VERSION:2.0
CALSCALE:GREGORIAN
BEGIN:VEVENT
UID:49b13002eed3286b6a7ba4901f435da7
DTSTAMP:20260425T182305Z
SUMMARY:(K)nie zu spät
DESCRIPTION:Tanzkurs für alle über 60&nbsp\;&ndash\;&nbsp\;Kurs 5 mit dem
  Thema William Forsythe II
DTSTART:20270208T140000
DTEND:20270208T140000
LOCATION:Bismarckstraße 35\, 10627 Berlin
BEGIN:VALARM
ACTION:DISPLAY
DESCRIPTION:(K)nie zu spät
TRIGGER;VALUE=DATE-TIME:20270208T140000Z
END:VALARM
END:VEVENT
END:VCALENDAR