BEGIN:VCALENDAR
PRODID:-//eluceo/ical//2.0/EN
VERSION:2.0
CALSCALE:GREGORIAN
BEGIN:VEVENT
UID:516eeffbff13a90adb065b727b336f60
DTSTAMP:20260425T183202Z
SUMMARY:(K)nie zu spät
DESCRIPTION:Tanzkurs für alle über 60&nbsp\;&ndash\;&nbsp\;Kurs 4 mit dem
  Thema: Der Nussknacker
DTSTART:20261118T140000
DTEND:20261118T140000
LOCATION:Bismarckstraße 35\, 10627 Berlin
BEGIN:VALARM
ACTION:DISPLAY
DESCRIPTION:(K)nie zu spät
TRIGGER;VALUE=DATE-TIME:20261118T140000Z
END:VALARM
END:VEVENT
END:VCALENDAR