BEGIN:VCALENDAR
PRODID:-//eluceo/ical//2.0/EN
VERSION:2.0
CALSCALE:GREGORIAN
BEGIN:VEVENT
UID:cc3ef8dd5cb1b4a374a727d7b95acfb5
DTSTAMP:20260425T182757Z
SUMMARY:(K)nie zu spät
DESCRIPTION:Tanzkurs für alle über 60&nbsp\;&ndash\;&nbsp\;Kurs 3 mit dem
  Thema Der Nussknacker
DTSTART:20261116T140000
DTEND:20261116T140000
LOCATION:Bismarckstraße 35\, 10627 Berlin
BEGIN:VALARM
ACTION:DISPLAY
DESCRIPTION:(K)nie zu spät
TRIGGER;VALUE=DATE-TIME:20261116T140000Z
END:VALARM
END:VEVENT
END:VCALENDAR