BEGIN:VCALENDAR
PRODID:-//eluceo/ical//2.0/EN
VERSION:2.0
CALSCALE:GREGORIAN
BEGIN:VEVENT
UID:feeaea53a0244620f1e3831e3053d254
DTSTAMP:20260425T182925Z
SUMMARY:(K)nie zu spät
DESCRIPTION:Tanzkurs für alle über 60&nbsp\;&ndash\;&nbsp\;Kurs 2 mit dem
  Thema: Bovary
DTSTART:20260902T142000
DTEND:20260902T142000
LOCATION:Bismarckstraße 35\, 10627 Berlin
BEGIN:VALARM
ACTION:DISPLAY
DESCRIPTION:(K)nie zu spät
TRIGGER;VALUE=DATE-TIME:20260902T142000Z
END:VALARM
END:VEVENT
END:VCALENDAR