BEGIN:VCALENDAR
PRODID:-//eluceo/ical//2.0/EN
VERSION:2.0
CALSCALE:GREGORIAN
BEGIN:VEVENT
UID:8bea8baa101fc883b6c1a24682ed9ac6
DTSTAMP:20260425T183114Z
SUMMARY:(K)nie zu spät
DESCRIPTION:Tanzkurs für alle über 60&nbsp\;&ndash\;&nbsp\;Kurs 1 mit dem
  Thema: Bovary
DTSTART:20260831T140000
DTEND:20260831T140000
LOCATION:Bismarckstraße 35\, 10627 Berlin
BEGIN:VALARM
ACTION:DISPLAY
DESCRIPTION:(K)nie zu spät
TRIGGER;VALUE=DATE-TIME:20260831T140000Z
END:VALARM
END:VEVENT
END:VCALENDAR