BEGIN:VCALENDAR
PRODID:-//eluceo/ical//2.0/EN
VERSION:2.0
CALSCALE:GREGORIAN
BEGIN:VEVENT
UID:4ae96ac67a638298a40832282ef25fff
DTSTAMP:20260425T195954Z
SUMMARY:InTakt (2026)
DESCRIPTION:Auch in der Spielzeit 2026/2027 bieten wir einen regelmäßigen
  Tanzkurs für Menschen mit Multipler...
DTSTART:20270411T101600
DTEND:20270411T101600
LOCATION:Unter den Linden 7\, 10117 Berlin
BEGIN:VALARM
ACTION:DISPLAY
DESCRIPTION:InTakt (2026)
TRIGGER;VALUE=DATE-TIME:20270411T101600Z
END:VALARM
END:VEVENT
END:VCALENDAR