BEGIN:VCALENDAR
PRODID:-//eluceo/ical//2.0/EN
VERSION:2.0
CALSCALE:GREGORIAN
BEGIN:VEVENT
UID:3a5590ae72641570d4f49cf69fe5da2f
DTSTAMP:20260425T182316Z
SUMMARY:InTakt (2026)
DESCRIPTION:Auch in der Spielzeit 2026/2027 bieten wir einen regelmäßigen
  Tanzkurs für Menschen mit Multipler...
DTSTART:20261129T101500
DTEND:20261129T101500
LOCATION:Unter den Linden 7\, 10117 Berlin
BEGIN:VALARM
ACTION:DISPLAY
DESCRIPTION:InTakt (2026)
TRIGGER;VALUE=DATE-TIME:20261129T101500Z
END:VALARM
END:VEVENT
END:VCALENDAR