BEGIN:VCALENDAR
PRODID:-//eluceo/ical//2.0/EN
VERSION:2.0
CALSCALE:GREGORIAN
BEGIN:VEVENT
UID:c9b5c231295418c84d8b936588e8a5ce
DTSTAMP:20260425T182305Z
SUMMARY:InTakt (2026)
DESCRIPTION:Auch in der Spielzeit 2026/2027 bieten wir einen regelmäßigen
  Tanzkurs für Menschen mit Multipler...
DTSTART:20260830T103000
DTEND:20260830T103000
LOCATION:Unter den Linden 7\, 10117 Berlin
BEGIN:VALARM
ACTION:DISPLAY
DESCRIPTION:InTakt (2026)
TRIGGER;VALUE=DATE-TIME:20260830T103000Z
END:VALARM
END:VEVENT
END:VCALENDAR