BEGIN:VCALENDAR
PRODID:-//eluceo/ical//2.0/EN
VERSION:2.0
CALSCALE:GREGORIAN
BEGIN:VEVENT
UID:c753b2b46ba8ca5e116eb4fd080fe279
DTSTAMP:20260425T183201Z
SUMMARY:STEP.ahead
DESCRIPTION:Für Erzieher*innen und Pädagog*innen
DTSTART:20270518T100000
DTEND:20270518T100000
LOCATION:Bismarckstraße 35\, 10627 Berlin
BEGIN:VALARM
ACTION:DISPLAY
DESCRIPTION:STEP.ahead
TRIGGER;VALUE=DATE-TIME:20270518T100000Z
END:VALARM
END:VEVENT
END:VCALENDAR