BEGIN:VCALENDAR
PRODID:-//eluceo/ical//2.0/EN
VERSION:2.0
CALSCALE:GREGORIAN
BEGIN:VEVENT
UID:4578093d718ef142201f6f3bb8672e83
DTSTAMP:20260425T183242Z
SUMMARY:STEP.ahead
DESCRIPTION:Für Erzieher*innen und Pädagog*innen
DTSTART:20261114T105900
DTEND:20261114T105900
LOCATION:Bismarckstraße 35\, 10627 Berlin
BEGIN:VALARM
ACTION:DISPLAY
DESCRIPTION:STEP.ahead
TRIGGER;VALUE=DATE-TIME:20261114T105900Z
END:VALARM
END:VEVENT
END:VCALENDAR