BEGIN:VCALENDAR
PRODID:-//eluceo/ical//2.0/EN
VERSION:2.0
CALSCALE:GREGORIAN
BEGIN:VEVENT
UID:4968a944b3110e225f7eec4853d310cd
DTSTAMP:20260425T223941Z
SUMMARY:Dance workshop for everyone
DESCRIPTION:
DTSTART:20270417T130000
DTEND:20270417T130000
LOCATION:Bismarckstraße 35\, 10627 Berlin
BEGIN:VALARM
ACTION:DISPLAY
DESCRIPTION:Dance workshop for everyone
TRIGGER;VALUE=DATE-TIME:20270417T130000Z
END:VALARM
END:VEVENT
END:VCALENDAR