BEGIN:VCALENDAR
PRODID:-//eluceo/ical//2.0/EN
VERSION:2.0
CALSCALE:GREGORIAN
BEGIN:VEVENT
UID:6f54567a6c3df55af605e2db571f3ff7
DTSTAMP:20260425T223648Z
SUMMARY:Dance workshop for everyone
DESCRIPTION:
DTSTART:20270130T130000
DTEND:20270130T130000
LOCATION:Bismarckstraße 35\, 10627 Berlin
BEGIN:VALARM
ACTION:DISPLAY
DESCRIPTION:Dance workshop for everyone
TRIGGER;VALUE=DATE-TIME:20270130T130000Z
END:VALARM
END:VEVENT
END:VCALENDAR