BEGIN:VCALENDAR
PRODID:-//eluceo/ical//2.0/EN
VERSION:2.0
CALSCALE:GREGORIAN
BEGIN:VEVENT
UID:c10615949018a7685b6d69982beb573f
DTSTAMP:20260425T222657Z
SUMMARY:FUTURA DANZA
DESCRIPTION:FUTURA DANZA is a new ongoing dance course for pregnant women a
 nd young mothers and fathers with babies...
DTSTART:20270420T140000
DTEND:20270420T140000
LOCATION:Bismarckstraße 35\, 10627 Berlin
BEGIN:VALARM
ACTION:DISPLAY
DESCRIPTION:FUTURA DANZA
TRIGGER;VALUE=DATE-TIME:20270420T140000Z
END:VALARM
END:VEVENT
END:VCALENDAR