BEGIN:VCALENDAR
PRODID:-//eluceo/ical//2.0/EN
VERSION:2.0
CALSCALE:GREGORIAN
BEGIN:VEVENT
UID:42afc1f664494f8d46a6fe9d81acc878
DTSTAMP:20260425T222938Z
SUMMARY:FUTURA DANZA
DESCRIPTION:FUTURA DANZA is a new ongoing dance course for pregnant women a
 nd young mothers and fathers with babies...
DTSTART:20270112T140000
DTEND:20270112T140000
LOCATION:Bismarckstraße 35\, 10627 Berlin
BEGIN:VALARM
ACTION:DISPLAY
DESCRIPTION:FUTURA DANZA
TRIGGER;VALUE=DATE-TIME:20270112T140000Z
END:VALARM
END:VEVENT
END:VCALENDAR