BEGIN:VCALENDAR
PRODID:-//eluceo/ical//2.0/EN
VERSION:2.0
CALSCALE:GREGORIAN
BEGIN:VEVENT
UID:3fb0f1c1e63b4a4265d97b2c9cccd6e6
DTSTAMP:20260425T222932Z
SUMMARY:FUTURA DANZA
DESCRIPTION:FUTURA DANZA is a new ongoing dance course for pregnant women a
 nd young mothers and fathers with babies...
DTSTART:20260929T140000
DTEND:20260929T140000
LOCATION:Bismarckstraße 35\, 10627 Berlin
BEGIN:VALARM
ACTION:DISPLAY
DESCRIPTION:FUTURA DANZA
TRIGGER;VALUE=DATE-TIME:20260929T140000Z
END:VALARM
END:VEVENT
END:VCALENDAR