BEGIN:VCALENDAR
PRODID:-//eluceo/ical//2.0/EN
VERSION:2.0
CALSCALE:GREGORIAN
BEGIN:VEVENT
UID:bae4c573f9fa6ba24a3ad5f37e23a89d
DTSTAMP:20260425T223454Z
SUMMARY:TanzTanz Special XXL
DESCRIPTION:As part of TanzTanz Special XXL\, everyone can actively partici
 pate in various workshops throughout the...
DTSTART:20270620T110000
DTEND:20270620T110000
LOCATION:Bismarckstraße 35\, 10627 Berlin
BEGIN:VALARM
ACTION:DISPLAY
DESCRIPTION:TanzTanz Special XXL
TRIGGER;VALUE=DATE-TIME:20270620T110000Z
END:VALARM
END:VEVENT
END:VCALENDAR