BEGIN:VCALENDAR
PRODID:-//eluceo/ical//2.0/EN
VERSION:2.0
CALSCALE:GREGORIAN
BEGIN:VEVENT
UID:b1a57fb5a3fb479bd1e9f2bb929bf0ca
DTSTAMP:20260419T223102Z
SUMMARY:Der Liebhaber
DESCRIPTION:Marco Goecke's Der Liebhaber is based on Marguerite Duras’ 19
 84 novel L’Amant. In...
DTSTART:20270702T193000
DTEND:20270702T193000
LOCATION:Unter den Linden 7\, 10117 Berlin
BEGIN:VALARM
ACTION:DISPLAY
DESCRIPTION:Der Liebhaber
TRIGGER;VALUE=DATE-TIME:20270702T193000Z
END:VALARM
END:VEVENT
END:VCALENDAR