BEGIN:VCALENDAR
PRODID:-//eluceo/ical//2.0/EN
VERSION:2.0
CALSCALE:GREGORIAN
BEGIN:VEVENT
UID:89bbc84e90d81b14d08d3fcfa799a0c3
DTSTAMP:20260419T222109Z
SUMMARY:Der Liebhaber
DESCRIPTION:Marco Goecke's Der Liebhaber is based on Marguerite Duras’ 19
 84 novel L’Amant. In...
DTSTART:20270613T140000
DTEND:20270613T140000
LOCATION:Unter den Linden 7\, 10117 Berlin
BEGIN:VALARM
ACTION:DISPLAY
DESCRIPTION:Der Liebhaber
TRIGGER;VALUE=DATE-TIME:20270613T140000Z
END:VALARM
END:VEVENT
END:VCALENDAR