BEGIN:VCALENDAR
PRODID:-//eluceo/ical//2.0/EN
VERSION:2.0
CALSCALE:GREGORIAN
BEGIN:VEVENT
UID:050ac8b4e00042425f0d70ecb5b1d7db
DTSTAMP:20260425T223732Z
SUMMARY:Premiere Talk: Der Liebhaber
DESCRIPTION:On a Sunday morning before the big event of the premiere\, Arti
 stic Director Christian Spuck and...
DTSTART:20270523T110000
DTEND:20270523T110000
LOCATION:Unter den Linden 7\, 10117 Berlin
BEGIN:VALARM
ACTION:DISPLAY
DESCRIPTION:Premiere Talk: Der Liebhaber
TRIGGER;VALUE=DATE-TIME:20270523T110000Z
END:VALARM
END:VEVENT
END:VCALENDAR